BEGIN:VCALENDAR
VERSION:2.0
PRODID:-//wp-events-plugin.com//7.2.3.1//EN
BEGIN:VEVENT
UID:162@playgroundhaarlem.nl
DTSTART;TZID=Europe/Amsterdam:20230725T100000
DTEND;TZID=Europe/Amsterdam:20230725T160000
DTSTAMP:20230628T150733Z
URL:https://playgroundhaarlem.nl/en/events/summer-camp-2023-07-25/
SUMMARY:Summer camp
DESCRIPTION:During the school holidays we offer one-day and two-day camps f
 or our Playground rascals and bosses. This is the chance for all adventure
 rs to come and play for a few days! For more information click on kampen.\
 n\n*Despite the camp\, the Playground is open to the public.
CATEGORIES:Summer camps
LOCATION:Playground Haarlem\, Woudplein 2A \, Haarlem\, Noord-Holland\, 203
 1 CZ \, Netherlands
X-APPLE-STRUCTURED-LOCATION;VALUE=URI;X-ADDRESS=Woudplein 2A \, Haarlem\, N
 oord-Holland\, 2031 CZ \, Netherlands;X-APPLE-RADIUS=100;X-TITLE=Playgroun
 d Haarlem:geo:0,0
END:VEVENT
BEGIN:VTIMEZONE
TZID:Europe/Amsterdam
X-LIC-LOCATION:Europe/Amsterdam
BEGIN:DAYLIGHT
DTSTART:20230326T030000
TZOFFSETFROM:+0100
TZOFFSETTO:+0200
TZNAME:CEST
END:DAYLIGHT
END:VTIMEZONE
END:VCALENDAR