BEGIN:VCALENDAR
VERSION:2.0
PRODID:-//wp-events-plugin.com//7.2.3.1//EN
BEGIN:VEVENT
UID:352@playgroundhaarlem.nl
DTSTART;TZID=Europe/Amsterdam:20260223T100000
DTEND;TZID=Europe/Amsterdam:20260227T160000
DTSTAMP:20260119T164508Z
URL:https://playgroundhaarlem.nl/events/11311/
SUMMARY:Voorjaarskamp – Voorjaarsvakantie 2026
DESCRIPTION:\n\nPlayground Voorjaarskamp – Voorjaarsvakantie 2026\n\n\n\n
 \n\nTijd: 10:00-16:00\nDuur: 1 dag\nAantal kinderen: Minimaal 10 kids per 
 groep\nLeeftijd: 4 t/m 12 jaar\nPrijs: € 60\,00 per kind\nINCLUSIEF:\nHi
 er alvast een voorproefje:\n\n 	🔎 Nieuwe uitdagingen in de indoor escap
 e room\n 	🌸 Plant zaadjes in jouw zelfgemaakt bloempot\n 	🗑️ Tromm
 elen op kliko’s\n 	🔴 Ballenspeurtocht in de ballenbak\n 	🎋 Fysieke
  uitdaging door het bamboeparcours\n 	🔫 Lasergame battle\n 	🎧 Voetje
 s van de vloer in de silent disco hut\n 	🌿 Natuurspeurtocht\n 	🎨 Knu
 tselen\n 	🎂 Smullen van lekkernijen en nog veel meer!\n\n\n
END:VEVENT
BEGIN:VTIMEZONE
TZID:Europe/Amsterdam
X-LIC-LOCATION:Europe/Amsterdam
BEGIN:STANDARD
DTSTART:20251026T020000
TZOFFSETFROM:+0200
TZOFFSETTO:+0100
TZNAME:CET
END:STANDARD
END:VTIMEZONE
END:VCALENDAR