BEGIN:VCALENDAR
VERSION:2.0
PRODID:-//wp-events-plugin.com//7.2.3.1//EN
BEGIN:VEVENT
UID:381@playgroundhaarlem.nl
DTSTART;TZID=Europe/Amsterdam:20260706T100000
DTEND;TZID=Europe/Amsterdam:20260816T160000
DTSTAMP:20260331T072455Z
URL:https://playgroundhaarlem.nl/events/brick-kids-vakantie-workshop-5/
SUMMARY:Brick Kids Vakantie Workshop
DESCRIPTION:\n\nBrick Kids Vakantie Workshop – Schoolvakanties 2026\n\n\n
 \n\n\n\n\n\nIn de schoolvakantie kunnen LEGO-fans lekker komen bouwen bij 
 ons! De ideale manier om kinderen weer even iets anders te laten doen en o
 ok nog eens gezellig met vriendjes.\n\nTijd: 10.00-12.00\nDuur: 2 uur\nAan
 tal kinderen: maximaal 10 per shift\nLeeftijd: 6 t/m 12 jaar\nPrijs: Van 
 € 49\,95 voor € 39\,95\nINCLUSIEF:\n\n 	Ontvangst door een Brick Maste
 r (begeleide workshop)\n 	Onbeperkt limonade\n 	Zakje chips of popcorn en 
 een lekkernij van choco LEGO voor extra energie\n 	Polaroidfoto als aanden
 ken\n 	Plus Brick Kids Diploma!\n 	GRATIS toegang op de dagzelf tot de Pla
 yground Haarlem\n\n\n
CATEGORIES:Workshops
LOCATION:Playground Haarlem\, Woudplein 2A \, Haarlem\, Noord-Holland\, 203
 1 CZ \, Nederland
X-APPLE-STRUCTURED-LOCATION;VALUE=URI;X-ADDRESS=Woudplein 2A \, Haarlem\, N
 oord-Holland\, 2031 CZ \, Nederland;X-APPLE-RADIUS=100;X-TITLE=Playground 
 Haarlem:geo:0,0
END:VEVENT
BEGIN:VTIMEZONE
TZID:Europe/Amsterdam
X-LIC-LOCATION:Europe/Amsterdam
BEGIN:DAYLIGHT
DTSTART:20260329T030000
TZOFFSETFROM:+0100
TZOFFSETTO:+0200
TZNAME:CEST
END:DAYLIGHT
END:VTIMEZONE
END:VCALENDAR