BEGIN:VCALENDAR
VERSION:2.0
PRODID:-//wp-events-plugin.com//7.2.3.1//EN
BEGIN:VEVENT
UID:373@playgroundhaarlem.nl
DTSTART;TZID=Europe/Amsterdam:20261018T100000
DTEND;TZID=Europe/Amsterdam:20261018T170000
DTSTAMP:20260331T072538Z
URL:https://playgroundhaarlem.nl/events/feest-einde-playground-haarlem/
SUMMARY:Feest einde Playground Haarlem
DESCRIPTION:Vier het laatste feest van Haarlem Playground samen met ons mee
 . Na jaren veel plezier en avontuur\, sluiten we echt de deuren. Kom nog e
 en laatste keer langs voor veel plezier\, gezelligheid en nieuwe herrineri
 ngen.
CATEGORIES:Special Events
LOCATION:Playground Haarlem\, Woudplein 2A \, Haarlem\, Noord-Holland\, 203
 1 CZ \, Nederland
X-APPLE-STRUCTURED-LOCATION;VALUE=URI;X-ADDRESS=Woudplein 2A \, Haarlem\, N
 oord-Holland\, 2031 CZ \, Nederland;X-APPLE-RADIUS=100;X-TITLE=Playground 
 Haarlem:geo:0,0
END:VEVENT
BEGIN:VTIMEZONE
TZID:Europe/Amsterdam
X-LIC-LOCATION:Europe/Amsterdam
BEGIN:DAYLIGHT
DTSTART:20260329T030000
TZOFFSETFROM:+0100
TZOFFSETTO:+0200
TZNAME:CEST
END:DAYLIGHT
END:VTIMEZONE
END:VCALENDAR