BEGIN:VCALENDAR
VERSION:2.0
PRODID:-//wp-events-plugin.com//7.2.3.1//EN
BEGIN:VEVENT
UID:375@playgroundhaarlem.nl
DTSTART;TZID=Europe/Amsterdam:20261012T100000
DTEND;TZID=Europe/Amsterdam:20261017T160000
DTSTAMP:20260331T072534Z
URL:https://playgroundhaarlem.nl/events/herfstkampen-herfstvakantie-2026-2
 /
SUMMARY:Herfstkampen – Herfstvakantie 2026
DESCRIPTION:\n\nPlayground Herfstkampen – Herfstvakantie 2026\n\n\n\n\n\n
 Tijd: 10.00-16.00\nDuur: 2 dagen (1 dag is mogelijk tegen dagtarief)\nAant
 al kinderen: Minimaal 10 kids per groep\nLeeftijd: 4 t/m 12 jaar\nPrijs: 
 € 120\,00 per kind\, €60\,00 per dag\nINCLUSIEF:\nHet herfstkamp zal t
 wee dagen duren\, en nu hoor ik je denken wat is er allemaal te beleven?\n
 \n 	Zelf vuur maken\n 	Bosbeesten timmeren\n 	Zakmessenworkshop\n 	Bamboe 
 bouwbattle\n 	LEGO Workshop\n 	Wasmachine voetbal\n 	Schilderen en kleuren
 \n 	Outdoor cooking\n 	Home Made Marsmallows roosteren boven echt vuur\n 	
 Escape room tocht!\n 	Lasergame battle\n 	Spelen op de Playground Haarlem\
 n 	Herfstspeurtocht\n 	Silent Disco hut\n\n\n
LOCATION:Playground Haarlem\, Woudplein 2A \, Haarlem\, Noord-Holland\, 203
 1 CZ \, Nederland
X-APPLE-STRUCTURED-LOCATION;VALUE=URI;X-ADDRESS=Woudplein 2A \, Haarlem\, N
 oord-Holland\, 2031 CZ \, Nederland;X-APPLE-RADIUS=100;X-TITLE=Playground 
 Haarlem:geo:0,0
END:VEVENT
BEGIN:VTIMEZONE
TZID:Europe/Amsterdam
X-LIC-LOCATION:Europe/Amsterdam
BEGIN:DAYLIGHT
DTSTART:20260329T030000
TZOFFSETFROM:+0100
TZOFFSETTO:+0200
TZNAME:CEST
END:DAYLIGHT
END:VTIMEZONE
END:VCALENDAR