BEGIN:VCALENDAR
VERSION:2.0
PRODID:-//wp-events-plugin.com//7.2.3.1//EN
BEGIN:VEVENT
UID:354@playgroundhaarlem.nl
DTSTART;TZID=Europe/Amsterdam:20260223T100000
DTEND;TZID=Europe/Amsterdam:20260301T160000
DTSTAMP:20260119T164842Z
URL:https://playgroundhaarlem.nl/events/ijs-professor-vakantie-workshop-3/
SUMMARY:IJS Professor Vakantie Workshop
DESCRIPTION:\n\nJS Professor Vakantie Workshop – Schoolvakanties 2026\n\n
 \n\n\n\n\n\n\nIn de schoolvakantie kunnen IJS-fans lekker komen brouwen bi
 j ons! De ideale manier om kinderen weer even iets anders te laten doen en
  ook nog eens gezellig met vriendjes.\n\nTijd: 13.30-15.00\nDuur: 1\,5 uur
 \nAantal kinderen: maximaal 10 per shift\nLeeftijd: 6 t/m 12 jaar\nPrijs: 
 Van € 49\,95 voor € 39\,95\nINCLUSIEF:\n\n 	Ontvangst door een IJs pro
 fessor (begeleide workshop)\n 	Onbeperkt limonade\n 	Hartige versnapering 
 voor extra energie\n 	Groepsfoto als aandenken\n 	Plus IJsmaker Diploma!\n
  	GRATIS toegang op de dagzelf tot de Playground Haarlem\n\n\n
CATEGORIES:Workshops
END:VEVENT
BEGIN:VTIMEZONE
TZID:Europe/Amsterdam
X-LIC-LOCATION:Europe/Amsterdam
BEGIN:STANDARD
DTSTART:20251026T020000
TZOFFSETFROM:+0200
TZOFFSETTO:+0100
TZNAME:CET
END:STANDARD
END:VTIMEZONE
END:VCALENDAR