BEGIN:VCALENDAR
VERSION:2.0
PRODID:-//wp-events-plugin.com//7.2.3.1//EN
BEGIN:VEVENT
UID:362@playgroundhaarlem.nl
DTSTART;TZID=Europe/Amsterdam:20260706T100000
DTEND;TZID=Europe/Amsterdam:20260815T160000
DTSTAMP:20260331T072449Z
URL:https://playgroundhaarlem.nl/events/ijs-professor-vakantie-workshop-6/
SUMMARY:IJS Professor Vakantie Workshop
DESCRIPTION:\n\nJS Professor Vakantie Workshop – Schoolvakanties 2026\n\n
 \n\n\n\nIn de schoolvakantie kunnen IJS-fans lekker komen brouwen bij ons!
  De ideale manier om kinderen weer even iets anders te laten doen en ook n
 og eens gezellig met vriendjes.\n\nTijd: 13.30-15.00\nDuur: 1\,5 uur\nAant
 al kinderen: maximaal 10 per shift\nLeeftijd: 6 t/m 12 jaar\nPrijs: Van 
 € 49\,95 voor € 39\,95\nINCLUSIEF:\n\n 	Ontvangst door een IJs profess
 or (begeleide workshop)\n 	Onbeperkt limonade\n 	Hartige versnapering voor
  extra energie\n 	Groepsfoto als aandenken\n 	Plus IJsmaker Diploma!\n 	GR
 ATIS toegang op de dagzelf tot de Playground Haarlem\n\n\n
CATEGORIES:Workshops
LOCATION:Playground Haarlem\, Woudplein 2A \, Haarlem\, Noord-Holland\, 203
 1 CZ \, Nederland
X-APPLE-STRUCTURED-LOCATION;VALUE=URI;X-ADDRESS=Woudplein 2A \, Haarlem\, N
 oord-Holland\, 2031 CZ \, Nederland;X-APPLE-RADIUS=100;X-TITLE=Playground 
 Haarlem:geo:0,0
END:VEVENT
BEGIN:VTIMEZONE
TZID:Europe/Amsterdam
X-LIC-LOCATION:Europe/Amsterdam
BEGIN:DAYLIGHT
DTSTART:20260329T030000
TZOFFSETFROM:+0100
TZOFFSETTO:+0200
TZNAME:CEST
END:DAYLIGHT
END:VTIMEZONE
END:VCALENDAR