BEGIN:VCALENDAR
VERSION:2.0
PRODID:-//wp-events-plugin.com//7.2.3.1//EN
BEGIN:VEVENT
UID:380@playgroundhaarlem.nl
DTSTART;TZID=Europe/Amsterdam:20260422T100000
DTEND;TZID=Europe/Amsterdam:20260505T160000
DTSTAMP:20260331T072412Z
URL:https://playgroundhaarlem.nl/events/ijs-professor-vakantie-workshop-9/
SUMMARY:IJS Professor Vakantie Workshop
DESCRIPTION:In de schoolvakantie kunnen IJS-fans lekker komen brouwen bij o
 ns! De ideale manier om kinderen weer even iets anders te laten doen en oo
 k nog eens gezellig met vriendjes.\n\nTijd: 13.30-15.00\nDuur: 1\,5 uur\nA
 antal kinderen: maximaal 10 per shift\nLeeftijd: 6 t/m 12 jaar\nPrijs: Van
  € 49\,95 voor € 39\,95\nINCLUSIEF:\n\n 	Ontvangst door een IJs profes
 sor (begeleide workshop)\n 	Onbeperkt limonade\n 	Hartige versnapering voo
 r extra energie\n 	Groepsfoto als aandenken\n 	Plus IJsmaker Diploma!\n 	G
 RATIS toegang op de dagzelf tot de Playground Haarlem\n
CATEGORIES:Workshops
LOCATION:Playground Haarlem\, Woudplein 2A \, Haarlem\, Noord-Holland\, 203
 1 CZ \, Nederland
X-APPLE-STRUCTURED-LOCATION;VALUE=URI;X-ADDRESS=Woudplein 2A \, Haarlem\, N
 oord-Holland\, 2031 CZ \, Nederland;X-APPLE-RADIUS=100;X-TITLE=Playground 
 Haarlem:geo:0,0
END:VEVENT
BEGIN:VTIMEZONE
TZID:Europe/Amsterdam
X-LIC-LOCATION:Europe/Amsterdam
BEGIN:DAYLIGHT
DTSTART:20260329T030000
TZOFFSETFROM:+0100
TZOFFSETTO:+0200
TZNAME:CEST
END:DAYLIGHT
END:VTIMEZONE
END:VCALENDAR