BEGIN:VCALENDAR
VERSION:2.0
PRODID:-//wp-events-plugin.com//7.2.3.1//EN
BEGIN:VEVENT
UID:358@playgroundhaarlem.nl
DTSTART;TZID=Europe/Amsterdam:20260422T100000
DTEND;TZID=Europe/Amsterdam:20260505T160000
DTSTAMP:20260331T072417Z
URL:https://playgroundhaarlem.nl/events/meivakantie-kamp-meivakantie-2026/
SUMMARY:Meivakantie kamp – Meivakantie 2026
DESCRIPTION:Tijd: 10:00 - 16:00 uur\nDuur: 2 dagen (1 dag is mogelijk tegen
  dagtarief)\nAantal kinderen: Minimaal 10 kids per groep\nLeeftijd: 4 t/m 
 12 jaar\nPrijs: € 60\,00 per kind voor 1 dag of € 120\,00 per kind voo
 r 2 dagen\nINCLUSIEF:\nNu hoor ik je denken wat is er allemaal te beleven?
 \n\n 	Bosbeesten timmeren\n 	Zaadballen maken\n 	Zelf vuur leren maken\n 	
 Werken met zakmessen (voor de échte durfals!)\n 	Spring je gek op het spr
 ingkussen\n 	Bellenblaas Happy Hour\n 	LEGO Workshop\n 	Skippyballen race\
 n 	Pimp jij onze toffe Play auto?\n 	Wasmachine voetbal\n 	COCO LOCO Kinde
 rcocktails shaken\n 	Broodjes bakken/ Home Made\n 	Marshmallows roosteren 
 boven echt vuur\n 	Escape avontuur\n 	Lasergame battle\n 	Freerun clinic\n
  	Spelen op de Playground\n 	Silent Disco hut\n
CATEGORIES:Meivakantiekamp
LOCATION:Playground Haarlem\, Woudplein 2A \, Haarlem\, Noord-Holland\, 203
 1 CZ \, Nederland
X-APPLE-STRUCTURED-LOCATION;VALUE=URI;X-ADDRESS=Woudplein 2A \, Haarlem\, N
 oord-Holland\, 2031 CZ \, Nederland;X-APPLE-RADIUS=100;X-TITLE=Playground 
 Haarlem:geo:0,0
END:VEVENT
BEGIN:VTIMEZONE
TZID:Europe/Amsterdam
X-LIC-LOCATION:Europe/Amsterdam
BEGIN:DAYLIGHT
DTSTART:20260329T030000
TZOFFSETFROM:+0100
TZOFFSETTO:+0200
TZNAME:CEST
END:DAYLIGHT
END:VTIMEZONE
END:VCALENDAR