BEGIN:VCALENDAR
VERSION:2.0
PRODID:-//wp-events-plugin.com//7.2.3.1//EN
BEGIN:VEVENT
UID:366@playgroundhaarlem.nl
DTSTART;TZID=Europe/Amsterdam:20260405T100000
DTEND;TZID=Europe/Amsterdam:20260406T160000
DTSTAMP:20260331T072316Z
URL:https://playgroundhaarlem.nl/events/pasen-2026/
SUMMARY:Pasen 2026
DESCRIPTION:Eerste en tweede paasdag wordt er pasen gevierd op de Playgroun
 d. Kom paaseieren zoeken tussen 10.00 - 13.00 uur. Vind jij het gouden ei?
  Dan maak je kans op een super toffe prijs! Natuurlijk is de Paashaas ook 
 aanwezig om een knuffel te geven.
CATEGORIES:Feestdag
LOCATION:Playground Haarlem\, Woudplein 2A \, Haarlem\, Noord-Holland\, 203
 1 CZ \, Nederland
X-APPLE-STRUCTURED-LOCATION;VALUE=URI;X-ADDRESS=Woudplein 2A \, Haarlem\, N
 oord-Holland\, 2031 CZ \, Nederland;X-APPLE-RADIUS=100;X-TITLE=Playground 
 Haarlem:geo:0,0
END:VEVENT
BEGIN:VTIMEZONE
TZID:Europe/Amsterdam
X-LIC-LOCATION:Europe/Amsterdam
BEGIN:DAYLIGHT
DTSTART:20260329T030000
TZOFFSETFROM:+0100
TZOFFSETTO:+0200
TZNAME:CEST
END:DAYLIGHT
END:VTIMEZONE
END:VCALENDAR