BEGIN:VCALENDAR
VERSION:2.0
PRODID:-//wp-events-plugin.com//7.2.3.1//EN
BEGIN:VEVENT
UID:390@playgroundhaarlem.nl
DTSTART;TZID=Europe/Amsterdam:20260424T110000
DTEND;TZID=Europe/Amsterdam:20260424T160000
DTSTAMP:20260403T144353Z
URL:https://playgroundhaarlem.nl/events/playground-x-sportsupport/
SUMMARY:Playground x SportSupport
DESCRIPTION:Datum: vrijdag 24 april\nTijd: 11.00 – 15.00 (starttijden tus
 sen 11.00 en 13.00 uur)\nLocatie: Playground Haarlem op het Woudplein 2A\,
  2031 CE in Haarlem\nLeeftijd: 4–9 jaar\nKosten: 10 euro per groep. Met 
 je inschrijving heb je ook toegang tot Playground Haarlem en krijgt iedere
  deelnemer een glas limonade en een stuk fruit.\nAanmelden: https://www.sp
 ortsupport.nl/events/dierenspeurtocht-rond-de-veerplas-haarlem-oost/
CATEGORIES:Special Events
LOCATION:Playground Haarlem\, Woudplein 2A \, Haarlem\, Noord-Holland\, 203
 1 CZ \, Nederland
X-APPLE-STRUCTURED-LOCATION;VALUE=URI;X-ADDRESS=Woudplein 2A \, Haarlem\, N
 oord-Holland\, 2031 CZ \, Nederland;X-APPLE-RADIUS=100;X-TITLE=Playground 
 Haarlem:geo:0,0
END:VEVENT
BEGIN:VTIMEZONE
TZID:Europe/Amsterdam
X-LIC-LOCATION:Europe/Amsterdam
BEGIN:DAYLIGHT
DTSTART:20260329T030000
TZOFFSETFROM:+0100
TZOFFSETTO:+0200
TZNAME:CEST
END:DAYLIGHT
END:VTIMEZONE
END:VCALENDAR