BEGIN:VCALENDAR
VERSION:2.0
PRODID:-//wp-events-plugin.com//7.2.3.1//EN
BEGIN:VEVENT
UID:132@playgroundhaarlem.nl
DTSTART;TZID=Europe/Amsterdam:20230725T100000
DTEND;TZID=Europe/Amsterdam:20230725T160000
DTSTAMP:20230628T123549Z
URL:https://playgroundhaarlem.nl/events/zomerkamp-2023-07-25/
SUMMARY:Zomerkamp
DESCRIPTION:Tijdens de schoolvakanties bieden we eendaagse en tweedaagse ka
 mpen aan voor onze Playground bengels en bazen. Dit is dé kans voor alle 
 avonturiers om eens lekker een paar dagen te komen spelen! Voor meer infor
 matie klik op kampen.\n\n*Ondanks het kamp is de Playground open voor publ
 iek.
CATEGORIES:Zomerkampen
LOCATION:Playground Haarlem\, Woudplein 2A \, Haarlem\, Noord-Holland\, 203
 1 CZ \, Nederland
X-APPLE-STRUCTURED-LOCATION;VALUE=URI;X-ADDRESS=Woudplein 2A \, Haarlem\, N
 oord-Holland\, 2031 CZ \, Nederland;X-APPLE-RADIUS=100;X-TITLE=Playground 
 Haarlem:geo:0,0
END:VEVENT
BEGIN:VTIMEZONE
TZID:Europe/Amsterdam
X-LIC-LOCATION:Europe/Amsterdam
BEGIN:DAYLIGHT
DTSTART:20230326T030000
TZOFFSETFROM:+0100
TZOFFSETTO:+0200
TZNAME:CEST
END:DAYLIGHT
END:VTIMEZONE
END:VCALENDAR