BEGIN:VCALENDAR
VERSION:2.0
PRODID:-//wp-events-plugin.com//7.2.3.1//EN
BEGIN:VEVENT
UID:361@playgroundhaarlem.nl
DTSTART;TZID=Europe/Amsterdam:20260706T100000
DTEND;TZID=Europe/Amsterdam:20260815T160000
DTSTAMP:20260331T072442Z
URL:https://playgroundhaarlem.nl/events/zomerkamp-zomervakantie-2026/
SUMMARY:Zomerkamp – Zomervakantie 2026
DESCRIPTION:\n\nPlayground Zomerkamp – Zomervakantie 2026\n\n\n\n\n\nTijd
 : 10.00-16.00\nDuur: 3 dagen (1 dag of 2 dagen is mogelijk tegen dagtarief
 )\nAantal kinderen: Minimaal 10 kids per groep\nLeeftijd: 4 t/m 12 jaar\nP
 rijs: € 180\,00 per kind\nINCLUSIEF:\nHet zomerkamp zal drie dagen duren
 \, en nu hoor ik je denken wat is er allemaal te beleven?\n\n 	Soeperhelde
 n speurtocht van Tommy Tomato 🦸\n 	Hutten bouwen\n 	Lasergame battle\n 
 	Bellenblaas Happy Hour\n 	LEGO Workshop\n 	Skippyballen race\n 	Wasmachin
 e voetbal\n 	COCO LOCO Kindercocktails shaken\n 	Home Made Marsmallows roo
 steren boven echt vuur\n 	Escape avontuur\n 	Spelen op de Playground\n 	Si
 lent Disco hut\n\n\n
CATEGORIES:Zomerkampen
LOCATION:Playground Haarlem\, Woudplein 2A \, Haarlem\, Noord-Holland\, 203
 1 CZ \, Nederland
X-APPLE-STRUCTURED-LOCATION;VALUE=URI;X-ADDRESS=Woudplein 2A \, Haarlem\, N
 oord-Holland\, 2031 CZ \, Nederland;X-APPLE-RADIUS=100;X-TITLE=Playground 
 Haarlem:geo:0,0
END:VEVENT
BEGIN:VTIMEZONE
TZID:Europe/Amsterdam
X-LIC-LOCATION:Europe/Amsterdam
BEGIN:DAYLIGHT
DTSTART:20260329T030000
TZOFFSETFROM:+0100
TZOFFSETTO:+0200
TZNAME:CEST
END:DAYLIGHT
END:VTIMEZONE
END:VCALENDAR